Package: PhyloProfile Version: 1.99.3 Command: /home/biocbuild/bbs-3.21-bioc/R/bin/R CMD INSTALL PhyloProfile StartedAt: 2025-02-04 15:24:10 -0500 (Tue, 04 Feb 2025) EndedAt: 2025-02-04 15:24:35 -0500 (Tue, 04 Feb 2025) EllapsedTime: 24.2 seconds RetCode: 0 Status: OK