Package: PhyloProfile Version: 1.99.4 Command: chmod a+r PhyloProfile -R && E:\biocbuild\bbs-3.21-bioc\R\bin\R.exe CMD build --keep-empty-dirs --no-resave-data PhyloProfile StartedAt: 2025-02-09 20:45:07 -0500 (Sun, 09 Feb 2025) EndedAt: 2025-02-09 20:46:33 -0500 (Sun, 09 Feb 2025) EllapsedTime: 86.4 seconds RetCode: 0 Status: OK PackageFile: PhyloProfile_1.99.4.tar.gz PackageFileSize: 1.195 MiB