Package: PhyloProfile Version: 1.99.4 Command: E:\biocbuild\bbs-3.21-bioc\R\bin\R.exe CMD check --no-multiarch --install=check:PhyloProfile.install-out.txt --library=E:\biocbuild\bbs-3.21-bioc\R\library --no-vignettes --timings PhyloProfile_1.99.4.tar.gz StartedAt: 2025-02-10 04:05:08 -0500 (Mon, 10 Feb 2025) EndedAt: 2025-02-10 04:09:01 -0500 (Mon, 10 Feb 2025) EllapsedTime: 233.6 seconds RetCode: 0 Status: OK CheckDir: PhyloProfile.Rcheck Warnings: 0