Package: PoDCall Version: 1.15.2 Maintainer: Hans Petter Brodal MaintainerEmail: h.p.brodal at ous-research.no git_url: https://git.bioconductor.org/packages/PoDCall git_branch: devel git_last_commit: df1cfc5 git_last_commit_date: 2025-01-22 02:56:44 -0500 (Wed, 22 Jan 2025)