Package: PoDCall Version: 1.15.2 Command: rm -rf PoDCall.buildbin-libdir && mkdir PoDCall.buildbin-libdir && /Users/biocbuild/BBS/utils/build-universal.sh PoDCall_1.15.2.tar.gz /Library/Frameworks/R.framework/Resources/bin/R PoDCall.buildbin-libdir StartedAt: 2025-02-09 22:25:25 -0500 (Sun, 09 Feb 2025) EndedAt: 2025-02-09 22:25:28 -0500 (Sun, 09 Feb 2025) EllapsedTime: 3.1 seconds RetCode: 0 Status: OK PackageFile: PoDCall_1.15.2.tgz PackageFileSize: 2.191 MiB