Package: PoDCall Version: 1.15.2 Command: /Library/Frameworks/R.framework/Resources/bin/R CMD check --install=check:PoDCall.install-out.txt --library=/Library/Frameworks/R.framework/Resources/library --no-vignettes --timings PoDCall_1.15.2.tar.gz StartedAt: 2025-02-12 20:46:19 -0500 (Wed, 12 Feb 2025) EndedAt: 2025-02-12 20:49:29 -0500 (Wed, 12 Feb 2025) EllapsedTime: 190.3 seconds RetCode: 0 Status: OK CheckDir: PoDCall.Rcheck Warnings: 0