Package: PoDCall Version: 1.15.2 Command: /home/biocbuild/R/R/bin/R CMD build --keep-empty-dirs --no-resave-data PoDCall StartedAt: 2025-01-29 01:19:22 -0000 (Wed, 29 Jan 2025) EndedAt: 2025-01-29 01:19:49 -0000 (Wed, 29 Jan 2025) EllapsedTime: 27.0 seconds RetCode: 0 Status: OK PackageFile: PoDCall_1.15.2.tar.gz PackageFileSize: 2.295 MiB