Package: PoDCall Version: 1.15.2 Command: /home/biocbuild/R/R/bin/R CMD INSTALL PoDCall StartedAt: 2025-01-29 20:05:42 -0000 (Wed, 29 Jan 2025) EndedAt: 2025-01-29 20:05:47 -0000 (Wed, 29 Jan 2025) EllapsedTime: 5.1 seconds RetCode: 0 Status: OK