Package: PoDCall Version: 1.15.2 Command: /home/biocbuild/bbs-3.21-bioc/R/bin/R CMD check --install=check:PoDCall.install-out.txt --library=/home/biocbuild/bbs-3.21-bioc/R/site-library --timings PoDCall_1.15.2.tar.gz StartedAt: 2025-02-10 01:22:45 -0500 (Mon, 10 Feb 2025) EndedAt: 2025-02-10 01:32:53 -0500 (Mon, 10 Feb 2025) EllapsedTime: 608.8 seconds RetCode: 0 Status: OK CheckDir: PoDCall.Rcheck Warnings: 0