Package: PoDCall Version: 1.15.2 Command: rm -rf PoDCall.buildbin-libdir && mkdir PoDCall.buildbin-libdir && E:\biocbuild\bbs-3.21-bioc\R\bin\R.exe CMD INSTALL --build --library=PoDCall.buildbin-libdir PoDCall_1.15.2.tar.gz StartedAt: 2025-02-10 08:23:59 -0500 (Mon, 10 Feb 2025) EndedAt: 2025-02-10 08:24:12 -0500 (Mon, 10 Feb 2025) EllapsedTime: 13.1 seconds RetCode: 0 Status: OK PackageFile: PoDCall_1.15.2.zip PackageFileSize: 1.163 MiB