Package: PoDCall Version: 1.15.2 Command: chmod a+r PoDCall -R && E:\biocbuild\bbs-3.21-bioc\R\bin\R.exe CMD build --keep-empty-dirs --no-resave-data PoDCall StartedAt: 2025-02-09 20:48:16 -0500 (Sun, 09 Feb 2025) EndedAt: 2025-02-09 20:52:21 -0500 (Sun, 09 Feb 2025) EllapsedTime: 244.9 seconds RetCode: 0 Status: OK PackageFile: PoDCall_1.15.2.tar.gz PackageFileSize: 2.013 MiB