Package: PoDCall Version: 1.15.2 Command: E:\biocbuild\bbs-3.21-bioc\R\bin\R.exe CMD INSTALL PoDCall StartedAt: 2025-02-09 15:36:05 -0500 (Sun, 09 Feb 2025) EndedAt: 2025-02-09 15:36:19 -0500 (Sun, 09 Feb 2025) EllapsedTime: 14.5 seconds RetCode: 0 Status: OK