Package: PolySTest Version: 1.1.0 Command: rm -rf PolySTest.buildbin-libdir && mkdir PolySTest.buildbin-libdir && /Users/biocbuild/BBS/utils/build-universal.sh PolySTest_1.1.0.tar.gz /Library/Frameworks/R.framework/Resources/bin/R PolySTest.buildbin-libdir StartedAt: 2025-02-09 22:25:27 -0500 (Sun, 09 Feb 2025) EndedAt: 2025-02-09 22:25:39 -0500 (Sun, 09 Feb 2025) EllapsedTime: 12.2 seconds RetCode: 0 Status: OK PackageFile: PolySTest_1.1.0.tgz PackageFileSize: 2.273 MiB