Package: PolySTest Version: 1.1.0 Command: /Library/Frameworks/R.framework/Resources/bin/R CMD build --keep-empty-dirs --no-resave-data PolySTest StartedAt: 2025-02-09 17:59:08 -0500 (Sun, 09 Feb 2025) EndedAt: 2025-02-09 18:01:02 -0500 (Sun, 09 Feb 2025) EllapsedTime: 114.2 seconds RetCode: 0 Status: OK PackageFile: PolySTest_1.1.0.tar.gz PackageFileSize: 2.159 MiB