Package: PolySTest Version: 1.1.0 Command: chmod a+r PolySTest -R && E:\biocbuild\bbs-3.21-bioc\R\bin\R.exe CMD build --keep-empty-dirs --no-resave-data PolySTest StartedAt: 2025-02-04 20:51:21 -0500 (Tue, 04 Feb 2025) EndedAt: 2025-02-04 20:53:36 -0500 (Tue, 04 Feb 2025) EllapsedTime: 134.8 seconds RetCode: 0 Status: OK PackageFile: PolySTest_1.1.0.tar.gz PackageFileSize: 1.882 MiB