Package: PolySTest Version: 1.1.0 Command: E:\biocbuild\bbs-3.21-bioc\R\bin\R.exe CMD INSTALL PolySTest StartedAt: 2025-02-09 16:06:04 -0500 (Sun, 09 Feb 2025) EndedAt: 2025-02-09 16:06:48 -0500 (Sun, 09 Feb 2025) EllapsedTime: 43.9 seconds RetCode: 0 Status: OK