Package: Polytect Version: 0.99.5 Command: rm -rf Polytect.buildbin-libdir && mkdir Polytect.buildbin-libdir && /Users/biocbuild/BBS/utils/build-universal.sh Polytect_0.99.5.tar.gz /Library/Frameworks/R.framework/Resources/bin/R Polytect.buildbin-libdir StartedAt: 2025-02-09 22:25:28 -0500 (Sun, 09 Feb 2025) EndedAt: 2025-02-09 22:25:33 -0500 (Sun, 09 Feb 2025) EllapsedTime: 5.1 seconds RetCode: 0 Status: OK PackageFile: Polytect_0.99.5.tgz PackageFileSize: 2.237 MiB