Package: Polytect Version: 0.99.5 Command: /Library/Frameworks/R.framework/Resources/bin/R CMD build --keep-empty-dirs --no-resave-data Polytect StartedAt: 2025-02-03 17:56:52 -0500 (Mon, 03 Feb 2025) EndedAt: 2025-02-03 17:58:11 -0500 (Mon, 03 Feb 2025) EllapsedTime: 78.9 seconds RetCode: 0 Status: OK PackageFile: Polytect_0.99.5.tar.gz PackageFileSize: 2.128 MiB