Package: Polytect Version: 0.99.5 Command: /Library/Frameworks/R.framework/Resources/bin/R CMD check --install=check:Polytect.install-out.txt --library=/Library/Frameworks/R.framework/Resources/library --no-vignettes --timings Polytect_0.99.5.tar.gz StartedAt: 2025-02-09 22:45:05 -0500 (Sun, 09 Feb 2025) EndedAt: 2025-02-09 22:47:06 -0500 (Sun, 09 Feb 2025) EllapsedTime: 120.5 seconds RetCode: 0 Status: OK CheckDir: Polytect.Rcheck Warnings: 0