Package: Polytect Version: 0.99.5 Command: /home/biocbuild/bbs-3.21-bioc/R/bin/R CMD build --keep-empty-dirs --no-resave-data Polytect StartedAt: 2025-02-09 18:41:48 -0500 (Sun, 09 Feb 2025) EndedAt: 2025-02-09 18:43:09 -0500 (Sun, 09 Feb 2025) EllapsedTime: 81.1 seconds RetCode: 0 Status: OK PackageFile: Polytect_0.99.5.tar.gz PackageFileSize: 2.198 MiB