Package: Polytect Version: 0.99.5 Command: /home/biocbuild/bbs-3.21-bioc/R/bin/R CMD check --install=check:Polytect.install-out.txt --library=/home/biocbuild/bbs-3.21-bioc/R/site-library --timings Polytect_0.99.5.tar.gz StartedAt: 2025-02-10 01:24:19 -0500 (Mon, 10 Feb 2025) EndedAt: 2025-02-10 01:27:14 -0500 (Mon, 10 Feb 2025) EllapsedTime: 175.2 seconds RetCode: 0 Status: OK CheckDir: Polytect.Rcheck Warnings: 0