Package: Polytect Version: 0.99.5 Command: /home/biocbuild/bbs-3.21-bioc/R/bin/R CMD INSTALL Polytect StartedAt: 2025-02-09 15:10:38 -0500 (Sun, 09 Feb 2025) EndedAt: 2025-02-09 15:10:56 -0500 (Sun, 09 Feb 2025) EllapsedTime: 17.9 seconds RetCode: 0 Status: OK