Package: Polytect Version: 0.99.5 Command: E:\biocbuild\bbs-3.21-bioc\R\bin\R.exe CMD INSTALL Polytect StartedAt: 2025-02-09 15:56:53 -0500 (Sun, 09 Feb 2025) EndedAt: 2025-02-09 15:57:26 -0500 (Sun, 09 Feb 2025) EllapsedTime: 32.8 seconds RetCode: 0 Status: OK