Package: Prostar Version: 1.39.0 Command: /Library/Frameworks/R.framework/Resources/bin/R CMD check --install=check:Prostar.install-out.txt --library=/Library/Frameworks/R.framework/Resources/library --no-vignettes --timings Prostar_1.39.0.tar.gz StartedAt: 2025-02-09 22:50:06 -0500 (Sun, 09 Feb 2025) EndedAt: 2025-02-09 22:54:46 -0500 (Sun, 09 Feb 2025) EllapsedTime: 280.1 seconds RetCode: 0 Status: OK CheckDir: Prostar.Rcheck Warnings: 0