Package: Prostar Version: 1.39.0 Command: chmod a+r Prostar -R && E:\biocbuild\bbs-3.21-bioc\R\bin\R.exe CMD build --keep-empty-dirs --no-resave-data Prostar StartedAt: 2025-02-12 20:59:51 -0500 (Wed, 12 Feb 2025) EndedAt: 2025-02-12 21:01:50 -0500 (Wed, 12 Feb 2025) EllapsedTime: 118.7 seconds RetCode: 0 Status: OK PackageFile: Prostar_1.39.0.tar.gz PackageFileSize: 4.262 MiB