Package: Prostar Version: 1.39.0 Command: E:\biocbuild\bbs-3.21-bioc\R\bin\R.exe CMD INSTALL Prostar StartedAt: 2025-02-09 16:56:54 -0500 (Sun, 09 Feb 2025) EndedAt: 2025-02-09 16:58:13 -0500 (Sun, 09 Feb 2025) EllapsedTime: 79.7 seconds RetCode: 0 Status: OK