Package: ProtGenerics Version: 1.39.2 Command: /home/biocbuild/R/R/bin/R CMD check --install=check:ProtGenerics.install-out.txt --library=/home/biocbuild/R/R/site-library --no-vignettes --timings ProtGenerics_1.39.2.tar.gz StartedAt: 2025-01-28 14:07:59 -0000 (Tue, 28 Jan 2025) EndedAt: 2025-01-28 14:08:18 -0000 (Tue, 28 Jan 2025) EllapsedTime: 19.0 seconds RetCode: 0 Status: OK CheckDir: ProtGenerics.Rcheck Warnings: 0