Package: ProtGenerics Version: 1.39.2 Command: /Library/Frameworks/R.framework/Resources/bin/R CMD INSTALL ProtGenerics StartedAt: 2025-02-09 15:06:11 -0500 (Sun, 09 Feb 2025) EndedAt: 2025-02-09 15:06:42 -0500 (Sun, 09 Feb 2025) EllapsedTime: 31.3 seconds RetCode: 0 Status: OK