Package: ProtGenerics Version: 1.39.2 Command: /home/biocbuild/bbs-3.21-bioc/R/bin/R CMD build --keep-empty-dirs --no-resave-data ProtGenerics StartedAt: 2025-02-09 18:44:41 -0500 (Sun, 09 Feb 2025) EndedAt: 2025-02-09 18:44:41 -0500 (Sun, 09 Feb 2025) EllapsedTime: 1.0 seconds RetCode: 0 Status: OK PackageFile: ProtGenerics_1.39.2.tar.gz PackageFileSize: 10.89 KiB