Package: ProtGenerics Version: 1.39.2 Command: rm -rf ProtGenerics.buildbin-libdir && mkdir ProtGenerics.buildbin-libdir && E:\biocbuild\bbs-3.21-bioc\R\bin\R.exe CMD INSTALL --build --library=ProtGenerics.buildbin-libdir ProtGenerics_1.39.2.tar.gz StartedAt: 2025-02-13 08:36:22 -0500 (Thu, 13 Feb 2025) EndedAt: 2025-02-13 08:39:42 -0500 (Thu, 13 Feb 2025) EllapsedTime: 200.0 seconds RetCode: 0 Status: OK PackageFile: ProtGenerics_1.39.2.zip PackageFileSize: 248.9 KiB