Package: ProtGenerics Version: 1.39.2 Command: E:\biocbuild\bbs-3.21-bioc\R\bin\R.exe CMD check --no-multiarch --install=check:ProtGenerics.install-out.txt --library=E:\biocbuild\bbs-3.21-bioc\R\library --no-vignettes --timings ProtGenerics_1.39.2.tar.gz StartedAt: 2025-02-13 04:28:40 -0500 (Thu, 13 Feb 2025) EndedAt: 2025-02-13 04:29:11 -0500 (Thu, 13 Feb 2025) EllapsedTime: 31.2 seconds RetCode: 0 Status: OK CheckDir: ProtGenerics.Rcheck Warnings: 0