Package: ProtGenerics Version: 1.39.2 Command: E:\biocbuild\bbs-3.21-bioc\R\bin\R.exe CMD INSTALL ProtGenerics StartedAt: 2025-02-09 15:24:49 -0500 (Sun, 09 Feb 2025) EndedAt: 2025-02-09 15:27:12 -0500 (Sun, 09 Feb 2025) EllapsedTime: 143.3 seconds RetCode: 0 Status: OK