Package: ProteoDisco Version: 1.13.0 Command: /Library/Frameworks/R.framework/Resources/bin/R CMD build --keep-empty-dirs --no-resave-data ProteoDisco StartedAt: 2025-02-04 17:18:07 -0500 (Tue, 04 Feb 2025) EndedAt: 2025-02-04 17:19:10 -0500 (Tue, 04 Feb 2025) EllapsedTime: 62.8 seconds RetCode: 0 Status: OK PackageFile: ProteoDisco_1.13.0.tar.gz PackageFileSize: 505.2 KiB