Package: ProteoDisco Version: 1.13.0 Command: /Library/Frameworks/R.framework/Resources/bin/R CMD INSTALL ProteoDisco StartedAt: 2025-02-04 15:11:19 -0500 (Tue, 04 Feb 2025) EndedAt: 2025-02-04 15:11:41 -0500 (Tue, 04 Feb 2025) EllapsedTime: 21.9 seconds RetCode: 0 Status: OK