Package: ProteoDisco Version: 1.13.0 Command: /home/biocbuild/R/R/bin/R CMD INSTALL ProteoDisco StartedAt: 2025-01-29 19:57:04 -0000 (Wed, 29 Jan 2025) EndedAt: 2025-01-29 19:58:23 -0000 (Wed, 29 Jan 2025) EllapsedTime: 78.3 seconds RetCode: 0 Status: OK