Package: ProteoDisco Version: 1.13.0 Command: /Library/Frameworks/R.framework/Resources/bin/R CMD build --keep-empty-dirs --no-resave-data ProteoDisco StartedAt: 2025-02-12 17:54:49 -0500 (Wed, 12 Feb 2025) EndedAt: 2025-02-12 17:57:37 -0500 (Wed, 12 Feb 2025) EllapsedTime: 167.9 seconds RetCode: 0 Status: OK PackageFile: ProteoDisco_1.13.0.tar.gz PackageFileSize: 505.1 KiB