Package: ProteoDisco Version: 1.13.0 Command: /home/biocbuild/bbs-3.21-bioc/R/bin/R CMD check --install=check:ProteoDisco.install-out.txt --library=/home/biocbuild/bbs-3.21-bioc/R/site-library --timings ProteoDisco_1.13.0.tar.gz StartedAt: 2025-02-05 01:38:42 -0500 (Wed, 05 Feb 2025) EndedAt: 2025-02-05 01:48:18 -0500 (Wed, 05 Feb 2025) EllapsedTime: 575.8 seconds RetCode: 0 Status: WARNINGS CheckDir: ProteoDisco.Rcheck Warnings: 2