Package: ProteoDisco Version: 1.13.0 Command: rm -rf ProteoDisco.buildbin-libdir && mkdir ProteoDisco.buildbin-libdir && E:\biocbuild\bbs-3.21-bioc\R\bin\R.exe CMD INSTALL --build --library=ProteoDisco.buildbin-libdir ProteoDisco_1.13.0.tar.gz StartedAt: 2025-02-10 08:25:40 -0500 (Mon, 10 Feb 2025) EndedAt: 2025-02-10 08:27:16 -0500 (Mon, 10 Feb 2025) EllapsedTime: 96.1 seconds RetCode: 0 Status: OK PackageFile: ProteoDisco_1.13.0.zip PackageFileSize: 885.6 KiB