Package: ProteoDisco Version: 1.13.0 Command: chmod a+r ProteoDisco -R && E:\biocbuild\bbs-3.21-bioc\R\bin\R.exe CMD build --keep-empty-dirs --no-resave-data ProteoDisco StartedAt: 2025-02-09 20:53:40 -0500 (Sun, 09 Feb 2025) EndedAt: 2025-02-09 20:57:13 -0500 (Sun, 09 Feb 2025) EllapsedTime: 212.8 seconds RetCode: 0 Status: OK PackageFile: ProteoDisco_1.13.0.tar.gz PackageFileSize: 480.4 KiB