Package: ProteoDisco Version: 1.13.0 Command: E:\biocbuild\bbs-3.21-bioc\R\bin\R.exe CMD check --no-multiarch --install=check:ProteoDisco.install-out.txt --library=E:\biocbuild\bbs-3.21-bioc\R\library --no-vignettes --timings ProteoDisco_1.13.0.tar.gz StartedAt: 2025-02-10 04:19:01 -0500 (Mon, 10 Feb 2025) EndedAt: 2025-02-10 04:30:30 -0500 (Mon, 10 Feb 2025) EllapsedTime: 689.2 seconds RetCode: 0 Status: WARNINGS CheckDir: ProteoDisco.Rcheck Warnings: 2