Package: ProteoDisco Version: 1.13.0 Command: E:\biocbuild\bbs-3.21-bioc\R\bin\R.exe CMD INSTALL ProteoDisco StartedAt: 2025-02-12 16:34:02 -0500 (Wed, 12 Feb 2025) EndedAt: 2025-02-12 16:35:11 -0500 (Wed, 12 Feb 2025) EllapsedTime: 68.3 seconds RetCode: 0 Status: OK