Package: PureCN Version: 2.13.1 Command: rm -rf PureCN.buildbin-libdir && mkdir PureCN.buildbin-libdir && /Users/biocbuild/BBS/utils/build-universal.sh PureCN_2.13.1.tar.gz /Library/Frameworks/R.framework/Resources/bin/R PureCN.buildbin-libdir StartedAt: 2025-02-04 22:27:46 -0500 (Tue, 04 Feb 2025) EndedAt: 2025-02-04 22:28:09 -0500 (Tue, 04 Feb 2025) EllapsedTime: 22.5 seconds RetCode: 0 Status: OK PackageFile: PureCN_2.13.1.tgz PackageFileSize: 6.185 MiB