Package: PureCN Version: 2.13.1 Command: /Library/Frameworks/R.framework/Resources/bin/R CMD INSTALL PureCN StartedAt: 2025-02-04 15:11:21 -0500 (Tue, 04 Feb 2025) EndedAt: 2025-02-04 15:11:41 -0500 (Tue, 04 Feb 2025) EllapsedTime: 19.7 seconds RetCode: 0 Status: OK