Package: PureCN Version: 2.13.1 Command: /home/biocbuild/R/R/bin/R CMD build --keep-empty-dirs --no-resave-data PureCN StartedAt: 2025-01-29 01:24:16 -0000 (Wed, 29 Jan 2025) EndedAt: 2025-01-29 01:30:46 -0000 (Wed, 29 Jan 2025) EllapsedTime: 390.2 seconds RetCode: 0 Status: OK PackageFile: PureCN_2.13.1.tar.gz PackageFileSize: 5.781 MiB