Package: PureCN Version: 2.13.1 Command: /home/biocbuild/R/R/bin/R CMD check --install=check:PureCN.install-out.txt --library=/home/biocbuild/R/R/site-library --no-vignettes --timings PureCN_2.13.1.tar.gz StartedAt: 2025-01-28 14:08:50 -0000 (Tue, 28 Jan 2025) EndedAt: 2025-01-28 14:30:25 -0000 (Tue, 28 Jan 2025) EllapsedTime: 1294.6 seconds RetCode: 0 Status: OK CheckDir: PureCN.Rcheck Warnings: 0