Package: PureCN Version: 2.13.1 Command: /home/biocbuild/R/R/bin/R CMD INSTALL PureCN StartedAt: 2025-01-29 19:57:09 -0000 (Wed, 29 Jan 2025) EndedAt: 2025-01-29 19:58:20 -0000 (Wed, 29 Jan 2025) EllapsedTime: 70.6 seconds RetCode: 0 Status: OK