Package: PureCN Version: 2.13.1 Command: rm -rf PureCN.buildbin-libdir && mkdir PureCN.buildbin-libdir && /Users/biocbuild/BBS/utils/build-universal.sh PureCN_2.13.1.tar.gz /Library/Frameworks/R.framework/Resources/bin/R PureCN.buildbin-libdir StartedAt: 2025-02-05 00:55:33 -0500 (Wed, 05 Feb 2025) EndedAt: 2025-02-05 00:56:45 -0500 (Wed, 05 Feb 2025) EllapsedTime: 71.8 seconds RetCode: 0 Status: OK PackageFile: PureCN_2.13.1.tgz PackageFileSize: 6.183 MiB