Package: PureCN Version: 2.13.1 Command: /Library/Frameworks/R.framework/Resources/bin/R CMD build --keep-empty-dirs --no-resave-data PureCN StartedAt: 2025-02-04 17:54:42 -0500 (Tue, 04 Feb 2025) EndedAt: 2025-02-04 17:59:21 -0500 (Tue, 04 Feb 2025) EllapsedTime: 278.8 seconds RetCode: 0 Status: OK PackageFile: PureCN_2.13.1.tar.gz PackageFileSize: 5.723 MiB