Package: PureCN Version: 2.13.1 Command: /Library/Frameworks/R.framework/Resources/bin/R CMD check --install=check:PureCN.install-out.txt --library=/Library/Frameworks/R.framework/Resources/library --no-vignettes --timings PureCN_2.13.1.tar.gz StartedAt: 2025-02-04 22:33:39 -0500 (Tue, 04 Feb 2025) EndedAt: 2025-02-04 22:50:39 -0500 (Tue, 04 Feb 2025) EllapsedTime: 1019.6 seconds RetCode: 0 Status: OK CheckDir: PureCN.Rcheck Warnings: 0