Package: PureCN Version: 2.13.1 Command: /Library/Frameworks/R.framework/Resources/bin/R CMD INSTALL PureCN StartedAt: 2025-02-04 15:21:15 -0500 (Tue, 04 Feb 2025) EndedAt: 2025-02-04 15:22:20 -0500 (Tue, 04 Feb 2025) EllapsedTime: 64.8 seconds RetCode: 0 Status: OK